BEGIN:VCALENDAR
VERSION:2.0
PRODID:-//wp-events-plugin.com//7.2.3.1//EN
TZID:Europe/London
X-WR-TIMEZONE:Europe/London
BEGIN:VEVENT
UID:757@greendragonbowmen.co.uk
DTSTART;TZID=Europe/London:20251114T193000
DTEND;TZID=Europe/London:20251114T220000
DTSTAMP:20250912T215548Z
URL:https://www.greendragonbowmen.co.uk/site1/events/hgac-open-coaching-26
 /
SUMMARY:HGAC Open Coaching
DESCRIPTION:If you would like to attend all 6 sessions you can block book.
   Block booking will open on Monday 8th September at 8pm. £48 for a sen
 ior and £24 for a junior.The link is https://www.eventbrite.co.uk/e/202
 4-open-coaching-bb-autumn-tickets-1008683498497Once all 10 block booking p
 laces are gone it will be possible to book one off sessions. There will be
  8 of these tickets for each date. £8 for a senior\, £4 for a junior.Whe
 n the link is available for single session bookings it will be on the HGA
 C website https://hgac.co.uk/opencoaching/\n\n&nbsp\;\n\nAll the block bo
 oking places for Open Coaching have now gone.\nHowever there will be 8 add
 itional tickets for each session.\nBooking for these opens on Monday 15th 
 September at 8 pm.\nhttps://www.eventbrite.co.uk/e/202526-open-coaching-ti
 ckets-1687082291549\n\nThe usual rules apply - in particular only book one
  session at a time. Once you have attended that\, you can then book anothe
 r.\nPrices are £8 for a senior £4 for a junior\, payable on the day by b
 ank transfer. Full details on the Eventbrite page.
CATEGORIES:Coaching,HGAC Coaching
LOCATION:Loreto College\, Loreto College\, St Albans\, AL1 7RQ\, United Kin
 gdom
X-APPLE-STRUCTURED-LOCATION;VALUE=URI;X-ADDRESS=Loreto College\, St Albans\
 , AL1 7RQ\, United Kingdom;X-APPLE-RADIUS=100;X-TITLE=Loreto College:geo:0
 ,0
END:VEVENT
BEGIN:VTIMEZONE
TZID:Europe/London
X-LIC-LOCATION:Europe/London
BEGIN:STANDARD
DTSTART:20251026T010000
TZOFFSETFROM:+0100
TZOFFSETTO:+0000
TZNAME:GMT
END:STANDARD
END:VTIMEZONE
END:VCALENDAR