BEGIN:VCALENDAR
VERSION:2.0
PRODID:-//wp-events-plugin.com//7.2.3.1//EN
TZID:Europe/London
X-WR-TIMEZONE:Europe/London
BEGIN:VEVENT
UID:537@greendragonbowmen.co.uk
DTSTART;TZID=Europe/London:20240324T120000
DTEND;TZID=Europe/London:20240324T160000
DTSTAMP:20240302T091930Z
URL:https://www.greendragonbowmen.co.uk/site1/events/frostbite-shoot-3/
SUMMARY:Frostbite shoot
DESCRIPTION:
CATEGORIES:Shoot
LOCATION:Knebworth House\, Knebworth House\, Knebworth\, Hertfordshire\, SG
 3 6PT\, United Kingdom
X-APPLE-STRUCTURED-LOCATION;VALUE=URI;X-ADDRESS=Knebworth House\, Knebworth
 \, Hertfordshire\, SG3 6PT\, United Kingdom;X-APPLE-RADIUS=100;X-TITLE=Kne
 bworth House:geo:0,0
END:VEVENT
BEGIN:VTIMEZONE
TZID:Europe/London
X-LIC-LOCATION:Europe/London
BEGIN:STANDARD
DTSTART:20231029T010000
TZOFFSETFROM:+0100
TZOFFSETTO:+0000
TZNAME:GMT
END:STANDARD
END:VTIMEZONE
END:VCALENDAR